BEGIN:VCALENDAR
VERSION:2.0
PRODID:-//AUSTRIAN FEDERATION OF SLEDDOG SPORTS - ECPv6.15.20//NONSGML v1.0//EN
CALSCALE:GREGORIAN
METHOD:PUBLISH
X-ORIGINAL-URL:https://afss.at
X-WR-CALDESC:Veranstaltungen für AUSTRIAN FEDERATION OF SLEDDOG SPORTS
REFRESH-INTERVAL;VALUE=DURATION:PT1H
X-Robots-Tag:noindex
X-PUBLISHED-TTL:PT1H
BEGIN:VTIMEZONE
TZID:Europe/Vienna
BEGIN:DAYLIGHT
TZOFFSETFROM:+0100
TZOFFSETTO:+0200
TZNAME:CEST
DTSTART:20250330T010000
END:DAYLIGHT
BEGIN:STANDARD
TZOFFSETFROM:+0200
TZOFFSETTO:+0100
TZNAME:CET
DTSTART:20251026T010000
END:STANDARD
BEGIN:DAYLIGHT
TZOFFSETFROM:+0100
TZOFFSETTO:+0200
TZNAME:CEST
DTSTART:20260329T010000
END:DAYLIGHT
BEGIN:STANDARD
TZOFFSETFROM:+0200
TZOFFSETTO:+0100
TZNAME:CET
DTSTART:20261025T010000
END:STANDARD
BEGIN:DAYLIGHT
TZOFFSETFROM:+0100
TZOFFSETTO:+0200
TZNAME:CEST
DTSTART:20270328T010000
END:DAYLIGHT
BEGIN:STANDARD
TZOFFSETFROM:+0200
TZOFFSETTO:+0100
TZNAME:CET
DTSTART:20271031T010000
END:STANDARD
END:VTIMEZONE
BEGIN:VEVENT
DTSTART;VALUE=DATE:20260123
DTEND;VALUE=DATE:20260302
DTSTAMP:20260421T173852
CREATED:20251112T104524Z
LAST-MODIFIED:20260304T090624Z
UID:2231-1769126400-1772409599@afss.at
SUMMARY:Austrian on Snow Cup 2025/2026
DESCRIPTION:Die Österreichischen Meistertitel On Snow werden für die Saison 2025/2026 im Rahmen einer Gesamtwertung über zwei Rennen vergeben. \nIn die Meisterschaftswertung einbezogene Bewerbe sind \n\n23.01-25.01.2026 On-Snow-Bewerb – Bad Mitterndorf Veranstalter RSSC/LHSA\n28.02-01.03.2026 On-Snow-Bewerb – Sportgastein Veranstalter RSSC\n\nWertung\nDie Wertung erfolgt nach dem Norweger-Punktesystem gemäß den Richtlinien der IFSS. Zur Ermittlung der Österreichischen Meisterin bzw. des Österreichischen Meisters ON SNOW der jeweiligen Kategorie 2025/2026\nwerden die Norwegerpunkte aus beiden Bewerben addiert. Der/die Athlet:in mit der höchsten Gesamtpunktezahl nach Abschluss beider Rennen wird zum/zur Österreichischen Meister:in ON SNOW 2025/2026 der jeweiligen Kategorie erklärt. \nAlle Infos findest Du auch in diesem Flyer.
URL:https://afss.at/event/austrian-on-snow-cup-2025-2026/
CATEGORIES:Austrian on Snow Cup 2025/2026,Cup,Gespannklassen,Schneecanicross,Schneerennen
ATTACH;FMTTYPE=image/png:https://afss.at/wp-content/uploads/2025/11/AOC-2025.png
END:VEVENT
END:VCALENDAR